BEGIN:VCALENDAR
VERSION:2.0
PRODID:-//wp-events-plugin.com//7.2.3.1//EN
TZID:Europe/Berlin
X-WR-TIMEZONE:Europe/Berlin
BEGIN:VEVENT
UID:6027@galli-wiesbaden.de
DTSTART;TZID=Europe/Berlin:20261231T200000
DTEND;TZID=Europe/Berlin:20261231T200000
DTSTAMP:20260421T170621Z
URL:https://galli-wiesbaden.de/events/%f0%9f%aa%85%f0%9f%a5%82silvesterpro
 gramm-%f0%9f%aa%85%f0%9f%a5%82-der-beziehungscoach-tanzparty/
SUMMARY:🪅🥂Silvesterprogramm 🪅🥂: Der Beziehungscoach + Tanzparty
DESCRIPTION:Burkhardt liebt Chantal\, Chantal liebt Ralf\, Ralf vergnügt s
 ich mit Chantals Vermögen auf Kuba. 
ATTACH;FMTTYPE=image/jpeg:https://galli-wiesbaden.de/wp-content/uploads/20
 25/11/Bezco3-1.jpg
CATEGORIES:Abendtheater,Spielplan
LOCATION:Galli Theater Wiesbaden\, Adelheidstr. 21\, Wiesbaden\, Hessen\, 6
 5185\, Deutschland
GEO:50.076422;8.240988
X-APPLE-STRUCTURED-LOCATION;VALUE=URI;X-ADDRESS=Adelheidstr. 21\, Wiesbaden
 \, Hessen\, 65185\, Deutschland;X-APPLE-RADIUS=100;X-TITLE=Galli Theater W
 iesbaden:geo:50.076422,8.240988
END:VEVENT
BEGIN:VTIMEZONE
TZID:Europe/Berlin
X-LIC-LOCATION:Europe/Berlin
BEGIN:STANDARD
DTSTART:20261025T020000
TZOFFSETFROM:+0200
TZOFFSETTO:+0100
TZNAME:CET
END:STANDARD
END:VTIMEZONE
END:VCALENDAR