BEGIN:VCALENDAR
VERSION:2.0
PRODID:-//wp-events-plugin.com//7.2.3.1//EN
TZID:Europe/Berlin
X-WR-TIMEZONE:Europe/Berlin
BEGIN:VEVENT
UID:5959@galli-wiesbaden.de
DTSTART:20260628T090000Z
DTEND:20260628T090000Z
DTSTAMP:20260225T114225Z
URL:https://galli-wiesbaden.de/events/ali-baba-die-40-raeuber-4/
SUMMARY:Ali Baba & die 40 Räuber
DESCRIPTION:„Sesam öffne dich“ – Mit diesem Spruch eröffnet sich f
 ür den armen Holzfäller Ali Baba ein großer Schatz in einem geheimnisvo
 llen Berg.
ATTACH;FMTTYPE=image/jpeg:https://galli-wiesbaden.de/wp-content/uploads/20
 21/11/Ali-Baba-die-40-Räuber-Galli-Theater-Wiesbaden-Slider-1.jpg
CATEGORIES:0 | Musik von Michael Summ,Kindertheater,Spielplan
LOCATION:Galli Theater Wiesbaden\, Adelheidstr. 21\, Wiesbaden\, Hessen\, 6
 5185\, Deutschland
GEO:50.076422;8.240988
X-APPLE-STRUCTURED-LOCATION;VALUE=URI;X-ADDRESS=Adelheidstr. 21\, Wiesbaden
 \, Hessen\, 65185\, Deutschland;X-APPLE-RADIUS=100;X-TITLE=Galli Theater W
 iesbaden:geo:50.076422,8.240988
END:VEVENT
END:VCALENDAR