BEGIN:VCALENDAR
VERSION:2.0
PRODID:-//wp-events-plugin.com//7.2.3.1//EN
TZID:Europe/Berlin
X-WR-TIMEZONE:Europe/Berlin
BEGIN:VEVENT
UID:5985@galli-wiesbaden.de
DTSTART:20260524T140000Z
DTEND:20260524T140000Z
DTSTAMP:20260410T210049Z
URL:https://galli-wiesbaden.de/events/der-teufel-mit-den-3-goldenen-haaren
 -8/
SUMMARY:Der Teufel mit den 3 goldenen Haaren
DESCRIPTION:Ein fröhlicher Prinz begibt sich auf den Weg in die Hölle\, u
 m die drei goldenen Haare des Teufels zu bekommen\, damit er seine geliebt
 e Prinzessin für sich gewinnen kann. Zum Glück gibt es des Teufels Groß
 mutter\, die dem Prinzen hilft\, den Teufel zu überlisten…
ATTACH;FMTTYPE=image/jpeg:https://galli-wiesbaden.de/wp-content/uploads/20
 19/12/TeufelSlider3-1.jpg
CATEGORIES:0 | Musik von Michael Summ,Kindertheater,Spielplan
LOCATION:Galli Theater Wiesbaden\, Adelheidstr. 21\, Wiesbaden\, Hessen\, 6
 5185\, Deutschland
GEO:50.076422;8.240988
X-APPLE-STRUCTURED-LOCATION;VALUE=URI;X-ADDRESS=Adelheidstr. 21\, Wiesbaden
 \, Hessen\, 65185\, Deutschland;X-APPLE-RADIUS=100;X-TITLE=Galli Theater W
 iesbaden:geo:50.076422,8.240988
END:VEVENT
END:VCALENDAR