BEGIN:VCALENDAR
VERSION:2.0
PRODID:-//wp-events-plugin.com//7.2.3.1//EN
TZID:Europe/Berlin
X-WR-TIMEZONE:Europe/Berlin
BEGIN:VEVENT
UID:5963@galli-wiesbaden.de
DTSTART:20260510T140000Z
DTEND:20260510T140000Z
DTSTAMP:20260225T142352Z
URL:https://galli-wiesbaden.de/events/die-kleine-seejungfrau-7/
SUMMARY:Die kleine Seejungfrau
DESCRIPTION:Glücklich lebt die kleine Nixe mit ihren Schwestern in den Flu
 ten des Meeres\, bis sie sich eines Tages unsterblich in einen wunderschö
 nen Prinzen verliebt. Sie beschließt\, ihrer Sehnsucht zu folgen\, die si
 e in das Reich der Meereshexe führt\, wo sie ihre wunderschöne Stimme ge
 gen zwei Beine eintauscht ...
ATTACH;FMTTYPE=image/jpeg:https://galli-wiesbaden.de/wp-content/uploads/20
 26/01/Seejungfrau3-1.jpg
CATEGORIES:0 | Musik von Michael Summ,Kindertheater,Spielplan
LOCATION:Galli Theater Wiesbaden\, Adelheidstr. 21\, Wiesbaden\, Hessen\, 6
 5185\, Deutschland
GEO:50.076422;8.240988
X-APPLE-STRUCTURED-LOCATION;VALUE=URI;X-ADDRESS=Adelheidstr. 21\, Wiesbaden
 \, Hessen\, 65185\, Deutschland;X-APPLE-RADIUS=100;X-TITLE=Galli Theater W
 iesbaden:geo:50.076422,8.240988
END:VEVENT
END:VCALENDAR