BEGIN:VCALENDAR
VERSION:2.0
PRODID:-//wp-events-plugin.com//7.2.3.1//EN
TZID:Europe/Berlin
X-WR-TIMEZONE:Europe/Berlin
BEGIN:VEVENT
UID:6012@galli-wiesbaden.de
DTSTART:20260611T180000Z
DTEND:20260611T180000Z
DTSTAMP:20260412T111556Z
URL:https://galli-wiesbaden.de/events/eva-und-lilith-10/
SUMMARY:Eva und Lilith
DESCRIPTION:Die Ehefrau Eva-Maria besucht Lilian\, die Geliebte ihres Manne
 s. Beide ringen in intensiven Dialogen und heftigen Streitereien miteinand
 er um ihr Recht auf den Mann. In einem Traum begegnen sich die beiden auf 
 einer mythologischen Ebene: Eva\, Adams zweite Frau\, treu dienende Ehefra
 u und Urmutter\, und Lilith\, Adams erste Frau\, Rebellin gegen alle feste
 n Bindungen. Zurück in der Realität finden sie eine überraschende Lösu
 ng.
ATTACH;FMTTYPE=image/jpeg:https://galli-wiesbaden.de/wp-content/uploads/20
 26/02/Eva-und-Lilith3-1.jpg
CATEGORIES:Abendtheater,Spielplan
LOCATION:Galli Theater Wiesbaden\, Adelheidstr. 21\, Wiesbaden\, Hessen\, 6
 5185\, Deutschland
GEO:50.076422;8.240988
X-APPLE-STRUCTURED-LOCATION;VALUE=URI;X-ADDRESS=Adelheidstr. 21\, Wiesbaden
 \, Hessen\, 65185\, Deutschland;X-APPLE-RADIUS=100;X-TITLE=Galli Theater W
 iesbaden:geo:50.076422,8.240988
END:VEVENT
END:VCALENDAR