BEGIN:VCALENDAR
VERSION:2.0
PRODID:-//wp-events-plugin.com//7.2.3.1//EN
TZID:Europe/Berlin
X-WR-TIMEZONE:Europe/Berlin
BEGIN:VEVENT
UID:5945@galli-wiesbaden.de
DTSTART:20260604T140000Z
DTEND:20260604T140000Z
DTSTAMP:20260225T114405Z
URL:https://galli-wiesbaden.de/events/haensel-gretel-11/
SUMMARY:Hänsel & Gretel
DESCRIPTION:[vc_row css=".vc_custom_1507994757353{margin-right: 15px !impor
 tant\;}"][vc_column][vc_column_text]Sehr zur Freude ihrer Stiefmutter veri
 rren sich Hänsel und Gretel im Wald. Hunger treibt sie zum Hexenhäuschen
 . Die Hexe nimmt sie gefangen. Den Hänsel will sie mästen und braten\, G
 retel muss schuften. Es sieht schlecht aus für die beiden\, aber da ersin
 nt sich die Gretel einen Trick.[/vc_column_text][vc_tta_accordion style="f
 lat" shape="square" spacing="5" c_icon="chevron" active_section="2" no_fil
 l="true" css=".vc_custom_1507933352590{margin-top: 30px !important\;}"][vc
 _tta_section title="Spieler" tab_id="1503413319127-b0178b70-60cd852e-d5bd6
 2e9-a26a164f-c643e849-de24"][vcex_staff_grid title_tag="h3" excerpt="false
 " read_more="false" orderby="type" img_crop="left-top" img_width="270" img
 _height="360" include_categories="498\, 564\, 185" columns_gap="15"][/vc_t
 ta_section][vc_tta_section title="Fotogalerie" tab_id="1515590992813-53ee6
 6f0-92f5e849-de24"][vcex_image_flexslider image_ids="39525\,39524" control
 _nav="false" control_thumbs="false"][/vc_tta_section][vc_tta_section title
 ="Galli Theater Café" tab_id="1709658262029-56c77e86-1fac"][vc_column_tex
 t]Genießt in gemütlicher Atmosphäre vor und nach jeder Vorstellung erfr
 ischende Getränke und köstliche Weine aus dem Rheingau. Für das leiblic
 he Wohl ist gesorgt mit einer Auswahl an frisch zubereiteten süßen und s
 alzigen Crêpes. Ihr werdet bedient von den Schauspielerinnen und Schauspi
 elern unseres Theater-Ensembles\, die sich sehr über euren Besuch freuen.
 [/vc_column_text][/vc_tta_section][vc_tta_section title="Weitere Termine" 
 tab_id="1504372265451-bc6fc131-b46b852e-d5bd62e9-a26a164f-c643e849-de24"][
 vc_column_text][spielplan mode=monthly category=86 tag=137][/vc_column_tex
 t][/vc_tta_section][/vc_tta_accordion][/vc_column][/vc_row][vc_row column_
 spacing="0px" equal_height="yes"][vc_column][vcex_image_carousel image_ids
 ="5153\,4813\,4810\,4425" caption="yes" arrows_position="abs" infinite_loo
 p="false" items="3" items_margin="20" overlay_style="title-bottom-see-thro
 ugh" img_width="300" img_height="200"][/vc_column][/vc_row]
ATTACH;FMTTYPE=image/jpeg:https://galli-wiesbaden.de/wp-content/uploads/20
 24/03/haensel-gretel-slider.jpg
CATEGORIES:0 | Musik von Michael Summ,Kindertheater,Spielplan
LOCATION:Galli Theater Wiesbaden\, Adelheidstr. 21\, Wiesbaden\, Hessen\, 6
 5185\, Deutschland
GEO:50.076422;8.240988
X-APPLE-STRUCTURED-LOCATION;VALUE=URI;X-ADDRESS=Adelheidstr. 21\, Wiesbaden
 \, Hessen\, 65185\, Deutschland;X-APPLE-RADIUS=100;X-TITLE=Galli Theater W
 iesbaden:geo:50.076422,8.240988
END:VEVENT
END:VCALENDAR