BEGIN:VCALENDAR
VERSION:2.0
PRODID:-//wp-events-plugin.com//7.2.3.1//EN
TZID:Europe/Berlin
X-WR-TIMEZONE:Europe/Berlin
BEGIN:VEVENT
UID:5992@galli-wiesbaden.de
DTSTART;TZID=Europe/Berlin:20260502T200000
DTEND;TZID=Europe/Berlin:20260502T200000
DTSTAMP:20260225T113541Z
URL:https://galli-wiesbaden.de/events/helden-8/
SUMMARY:Helden
DESCRIPTION:Die Nibelungensage als Rockmusical\n\nGrenzenlose Komik trifft 
 auf harte Gitarrenriffs.\n\nSiegfried\, König Gunther\, Hagen\, Kriemhild
  und Brunhild liefern sich ein komödiantisches Gerangel um Liebe und Held
 entum. Mit überraschenden Ideen\, harten Rhythmen und glänzenden Melodie
 n wird ein mittelalterliches Epos auf die Bühne gezaubert\, auseinander g
 enommen und neu zusammengesetzt.\n\nDie Nibelungensage frech und musikalis
 ch von Johannes Galli und Michael Summ.
ATTACH;FMTTYPE=image/jpeg:https://galli-wiesbaden.de/wp-content/uploads/20
 24/02/Helden-Slider-.jpg
CATEGORIES:0 | Musik von Michael Summ,Abendtheater,Spielplan
LOCATION:Galli Theater Wiesbaden\, Adelheidstr. 21\, Wiesbaden\, Hessen\, 6
 5185\, Deutschland
GEO:50.076422;8.240988
X-APPLE-STRUCTURED-LOCATION;VALUE=URI;X-ADDRESS=Adelheidstr. 21\, Wiesbaden
 \, Hessen\, 65185\, Deutschland;X-APPLE-RADIUS=100;X-TITLE=Galli Theater W
 iesbaden:geo:50.076422,8.240988
END:VEVENT
BEGIN:VTIMEZONE
TZID:Europe/Berlin
X-LIC-LOCATION:Europe/Berlin
BEGIN:DAYLIGHT
DTSTART:20260329T030000
TZOFFSETFROM:+0100
TZOFFSETTO:+0200
TZNAME:CEST
END:DAYLIGHT
END:VTIMEZONE
END:VCALENDAR