BEGIN:VCALENDAR
VERSION:2.0
PRODID:-//wp-events-plugin.com//7.2.3.1//EN
TZID:Europe/Berlin
X-WR-TIMEZONE:Europe/Berlin
BEGIN:VEVENT
UID:5936@galli-wiesbaden.de
DTSTART:20260426T140000Z
DTEND:20260426T140000Z
DTSTAMP:20260126T135358Z
URL:https://galli-wiesbaden.de/events/koenig-drosselbart-33/
SUMMARY:König Drosselbart
DESCRIPTION:Der schönen Prinzessin ist zur Heirat kein König gut genug. J
 eder Anwärter wird mit spitzen Bemerkungen und hochmütigem Spott von der
  Prinzessin abgewiesen. Doch eines Tages trifft sie auf einen\, der sich d
 as nicht gefallen lässt: König Drosselbart.
ATTACH;FMTTYPE=image/jpeg:https://galli-wiesbaden.de/wp-content/uploads/20
 25/08/Koenig-Drosselbart3-1.jpg
CATEGORIES:0 | Musik von Michael Summ,Kindertheater,Spielplan
LOCATION:Galli Theater Wiesbaden\, Adelheidstr. 21\, Wiesbaden\, Hessen\, 6
 5185\, Deutschland
GEO:50.076422;8.240988
X-APPLE-STRUCTURED-LOCATION;VALUE=URI;X-ADDRESS=Adelheidstr. 21\, Wiesbaden
 \, Hessen\, 65185\, Deutschland;X-APPLE-RADIUS=100;X-TITLE=Galli Theater W
 iesbaden:geo:50.076422,8.240988
END:VEVENT
END:VCALENDAR